BEGIN:VCALENDAR
METHOD:PUBLISH
PRODID:-//Weblication CMS
VERSION:2.0
BEGIN:VEVENT
SUMMARY:Superzwei Konzert
DTSTART:20240913T200000
DESCRIPTION:
LOCATION:
UID:https://www.eppelsheim.de/ep/veranstaltungen/termine/2024/1717534089.php?uid=9c35c2883ec26b12327385cdc9f3d73b
URL:https://www.eppelsheim.de/ep/veranstaltungen/termine/2024/1717534089.php
END:VEVENT
END:VCALENDAR