BEGIN:VCALENDAR
METHOD:PUBLISH
PRODID:-//Weblication CMS
VERSION:2.0
BEGIN:VEVENT
SUMMARY:Frauenchor Cantara kommt nach Eppelsheim
DTSTART:20241215T170000
DESCRIPTION:
LOCATION:Kirche Eppelsheim
UID:https://www.eppelsheim.de/ep/veranstaltungen/termine/2024/4922235150.php?uid=dec06a62bd434e68a5ce2978bd2c977d
URL:https://www.eppelsheim.de/ep/veranstaltungen/termine/2024/4922235150.php
END:VEVENT
END:VCALENDAR