BEGIN:VCALENDAR
METHOD:PUBLISH
PRODID:-//Weblication CMS
VERSION:2.0
BEGIN:VEVENT
SUMMARY:Gedenkfeier Volkstrauertag
DTSTART:20251116T103000
DESCRIPTION:
LOCATION:Friedhof
UID:https://www.eppelsheim.de/ep/veranstaltungen/termine/2024/1859015201.php?uid=7f1df260f70922aa5fa8f6e59f87d670
URL:https://www.eppelsheim.de/ep/veranstaltungen/termine/2024/1859015201.php
END:VEVENT
END:VCALENDAR