BEGIN:VCALENDAR
METHOD:PUBLISH
PRODID:-//Weblication CMS
VERSION:2.0
BEGIN:VEVENT
SUMMARY:Scheunencafé
DTSTART:20251116T140000
DESCRIPTION:Diverse Kaffee- und Teevariationen, Kuchen und Torten, Herbstliche Kartoffelsuppe mit oder ohne Bockwurst und Eppelsheimer Opa-Johann-Brot
LOCATION:Scheunencafé
UID:https://www.eppelsheim.de/ep/veranstaltungen/termine/2025/8153521520.php?uid=2db609009fc37d889ea2b65f9eb8651e
URL:https://www.eppelsheim.de/ep/veranstaltungen/termine/2025/8153521520.php
END:VEVENT
END:VCALENDAR