BEGIN:VCALENDAR
METHOD:PUBLISH
PRODID:-//Weblication CMS
VERSION:2.0
BEGIN:VEVENT
SUMMARY:Altpapier
DTSTAMP:20230704T154429
LAST-MODIFIED:20230803T115951
DTSTART:20260502T060000
DTEND:20260502T070000
DESCRIPTION:Leerungserinnerung
LOCATION:
UID:https://www.eppelsheim.de/ep/veranstaltungen/termine/2026/2026-05-02_06_00_00_altpapier.php?uid=
URL:https://www.eppelsheim.de/ep/veranstaltungen/termine/2026/2026-05-02_06_00_00_altpapier.php?uid=
BEGIN:VALARM
TRIGGER:-P0DT13H0M0S
ACTION:DISPLAY
END:VALARM
END:VEVENT
BEGIN:VEVENT
SUMMARY:Restmüll
DTSTAMP:20230704T154429
LAST-MODIFIED:20230803T115951
DTSTART:20260504T060000
DTEND:20260504T070000
DESCRIPTION:Leerungserinnerung
LOCATION:
UID:https://www.eppelsheim.de/ep/veranstaltungen/termine/2026/2026-05-04_06_00_00_restm_ll_240_03-w_chentl..php?uid=
URL:https://www.eppelsheim.de/ep/veranstaltungen/termine/2026/2026-05-04_06_00_00_restm_ll_240_03-w_chentl..php?uid=
BEGIN:VALARM
TRIGGER:-P0DT13H0M0S
ACTION:DISPLAY
END:VALARM
END:VEVENT
BEGIN:VEVENT
SUMMARY:Gelber Sack / Gelbe Tonne
DTSTAMP:20230704T154429
LAST-MODIFIED:20230803T115951
DTSTART:20260504T060000
DTEND:20260504T070000
DESCRIPTION:Leerungserinnerung
LOCATION:
UID:https://www.eppelsheim.de/ep/veranstaltungen/termine/2026/2026-05-04_06_00_00_gelber_sack___gelbe_tonne.php?uid=
URL:https://www.eppelsheim.de/ep/veranstaltungen/termine/2026/2026-05-04_06_00_00_gelber_sack___gelbe_tonne.php?uid=
BEGIN:VALARM
TRIGGER:-P0DT13H0M0S
ACTION:DISPLAY
END:VALARM
END:VEVENT
BEGIN:VEVENT
SUMMARY:Bioabfall
DTSTAMP:20230704T154429
LAST-MODIFIED:20230803T115951
DTSTART:20260504T060000
DTEND:20260504T070000
DESCRIPTION:Leerungserinnerung
LOCATION:
UID:https://www.eppelsheim.de/ep/veranstaltungen/termine/2026/2026-05-04_06_00_00_bioabfall_240_02-w_chentl..php?uid=
URL:https://www.eppelsheim.de/ep/veranstaltungen/termine/2026/2026-05-04_06_00_00_bioabfall_240_02-w_chentl..php?uid=
BEGIN:VALARM
TRIGGER:-P0DT13H0M0S
ACTION:DISPLAY
END:VALARM
END:VEVENT
BEGIN:VEVENT
SUMMARY:Bioabfall
DTSTAMP:20230704T154429
LAST-MODIFIED:20230803T115951
DTSTART:20260518T060000
DTEND:20260518T070000
DESCRIPTION:Leerungserinnerung
LOCATION:
UID:https://www.eppelsheim.de/ep/veranstaltungen/termine/2026/2026-05-18_06_00_00_bioabfall_240_02-w_chentl..php?uid=
URL:https://www.eppelsheim.de/ep/veranstaltungen/termine/2026/2026-05-18_06_00_00_bioabfall_240_02-w_chentl..php?uid=
BEGIN:VALARM
TRIGGER:-P0DT13H0M0S
ACTION:DISPLAY
END:VALARM
END:VEVENT
BEGIN:VEVENT
SUMMARY:Restmüll
DTSTAMP:20230704T154429
LAST-MODIFIED:20230803T115951
DTSTART:20260526T060000
DTEND:20260526T070000
DESCRIPTION:Leerungserinnerung
LOCATION:
UID:https://www.eppelsheim.de/ep/veranstaltungen/termine/2026/2026-05-26_06_00_00_restm_ll_240_03-w_chentl..php?uid=
URL:https://www.eppelsheim.de/ep/veranstaltungen/termine/2026/2026-05-26_06_00_00_restm_ll_240_03-w_chentl..php?uid=
BEGIN:VALARM
TRIGGER:-P0DT13H0M0S
ACTION:DISPLAY
END:VALARM
END:VEVENT
BEGIN:VEVENT
SUMMARY:Gelber Sack / Gelbe Tonne
DTSTAMP:20230704T154429
LAST-MODIFIED:20230803T115951
DTSTART:20260526T060000
DTEND:20260526T070000
DESCRIPTION:Leerungserinnerung
LOCATION:
UID:https://www.eppelsheim.de/ep/veranstaltungen/termine/2026/2026-05-26_06_00_00_gelber_sack___gelbe_tonne.php?uid=
URL:https://www.eppelsheim.de/ep/veranstaltungen/termine/2026/2026-05-26_06_00_00_gelber_sack___gelbe_tonne.php?uid=
BEGIN:VALARM
TRIGGER:-P0DT13H0M0S
ACTION:DISPLAY
END:VALARM
END:VEVENT
BEGIN:VEVENT
SUMMARY:Altpapier
DTSTAMP:20230704T154429
LAST-MODIFIED:20230803T115951
DTSTART:20260530T060000
DTEND:20260530T070000
DESCRIPTION:Leerungserinnerung
LOCATION:
UID:https://www.eppelsheim.de/ep/veranstaltungen/termine/2026/2026-05-30_06_00_00_altpapier.php?uid=
URL:https://www.eppelsheim.de/ep/veranstaltungen/termine/2026/2026-05-30_06_00_00_altpapier.php?uid=
BEGIN:VALARM
TRIGGER:-P0DT13H0M0S
ACTION:DISPLAY
END:VALARM
END:VEVENT
BEGIN:VEVENT
SUMMARY:Bioabfall
DTSTAMP:20230704T154429
LAST-MODIFIED:20230803T115951
DTSTART:20260601T060000
DTEND:20260601T070000
DESCRIPTION:Leerungserinnerung
LOCATION:
UID:https://www.eppelsheim.de/ep/veranstaltungen/termine/2026/2026-06-01_06_00_00_bioabfall_240_02-w_chentl..php?uid=
URL:https://www.eppelsheim.de/ep/veranstaltungen/termine/2026/2026-06-01_06_00_00_bioabfall_240_02-w_chentl..php?uid=
BEGIN:VALARM
TRIGGER:-P0DT13H0M0S
ACTION:DISPLAY
END:VALARM
END:VEVENT
BEGIN:VEVENT
SUMMARY:Restmüll
DTSTAMP:20230704T154429
LAST-MODIFIED:20230803T115951
DTSTART:20260615T060000
DTEND:20260615T070000
DESCRIPTION:Leerungserinnerung
LOCATION:
UID:https://www.eppelsheim.de/ep/veranstaltungen/termine/2026/2026-06-15_06_00_00_restm_ll_240_03-w_chentl..php?uid=
URL:https://www.eppelsheim.de/ep/veranstaltungen/termine/2026/2026-06-15_06_00_00_restm_ll_240_03-w_chentl..php?uid=
BEGIN:VALARM
TRIGGER:-P0DT13H0M0S
ACTION:DISPLAY
END:VALARM
END:VEVENT
BEGIN:VEVENT
SUMMARY:Gelber Sack / Gelbe Tonne
DTSTAMP:20230704T154429
LAST-MODIFIED:20230803T115951
DTSTART:20260615T060000
DTEND:20260615T070000
DESCRIPTION:Leerungserinnerung
LOCATION:
UID:https://www.eppelsheim.de/ep/veranstaltungen/termine/2026/2026-06-15_06_00_00_gelber_sack___gelbe_tonne.php?uid=
URL:https://www.eppelsheim.de/ep/veranstaltungen/termine/2026/2026-06-15_06_00_00_gelber_sack___gelbe_tonne.php?uid=
BEGIN:VALARM
TRIGGER:-P0DT13H0M0S
ACTION:DISPLAY
END:VALARM
END:VEVENT
BEGIN:VEVENT
SUMMARY:Bioabfall
DTSTAMP:20230704T154429
LAST-MODIFIED:20230803T115951
DTSTART:20260615T060000
DTEND:20260615T070000
DESCRIPTION:Leerungserinnerung
LOCATION:
UID:https://www.eppelsheim.de/ep/veranstaltungen/termine/2026/2026-06-15_06_00_00_bioabfall_240_02-w_chentl..php?uid=
URL:https://www.eppelsheim.de/ep/veranstaltungen/termine/2026/2026-06-15_06_00_00_bioabfall_240_02-w_chentl..php?uid=
BEGIN:VALARM
TRIGGER:-P0DT13H0M0S
ACTION:DISPLAY
END:VALARM
END:VEVENT
BEGIN:VEVENT
SUMMARY:Altpapier
DTSTAMP:20230704T154429
LAST-MODIFIED:20230803T115951
DTSTART:20260626T060000
DTEND:20260626T070000
DESCRIPTION:Leerungserinnerung
LOCATION:
UID:https://www.eppelsheim.de/ep/veranstaltungen/termine/2026/2026-06-26_06_00_00_altpapier.php?uid=
URL:https://www.eppelsheim.de/ep/veranstaltungen/termine/2026/2026-06-26_06_00_00_altpapier.php?uid=
BEGIN:VALARM
TRIGGER:-P0DT13H0M0S
ACTION:DISPLAY
END:VALARM
END:VEVENT
BEGIN:VEVENT
SUMMARY:Bioabfall
DTSTAMP:20230704T154429
LAST-MODIFIED:20230803T115951
DTSTART:20260629T060000
DTEND:20260629T070000
DESCRIPTION:Leerungserinnerung
LOCATION:
UID:https://www.eppelsheim.de/ep/veranstaltungen/termine/2026/2026-06-29_06_00_00_bioabfall_240_02-w_chentl..php?uid=
URL:https://www.eppelsheim.de/ep/veranstaltungen/termine/2026/2026-06-29_06_00_00_bioabfall_240_02-w_chentl..php?uid=
BEGIN:VALARM
TRIGGER:-P0DT13H0M0S
ACTION:DISPLAY
END:VALARM
END:VEVENT
BEGIN:VEVENT
SUMMARY:Restmüll
DTSTAMP:20230704T154429
LAST-MODIFIED:20230803T115951
DTSTART:20260706T060000
DTEND:20260706T070000
DESCRIPTION:Leerungserinnerung
LOCATION:
UID:https://www.eppelsheim.de/ep/veranstaltungen/termine/2026/2026-07-06_06_00_00_restm_ll_240_03-w_chentl..php?uid=
URL:https://www.eppelsheim.de/ep/veranstaltungen/termine/2026/2026-07-06_06_00_00_restm_ll_240_03-w_chentl..php?uid=
BEGIN:VALARM
TRIGGER:-P0DT13H0M0S
ACTION:DISPLAY
END:VALARM
END:VEVENT
BEGIN:VEVENT
SUMMARY:Gelber Sack / Gelbe Tonne
DTSTAMP:20230704T154429
LAST-MODIFIED:20230803T115951
DTSTART:20260706T060000
DTEND:20260706T070000
DESCRIPTION:Leerungserinnerung
LOCATION:
UID:https://www.eppelsheim.de/ep/veranstaltungen/termine/2026/2026-07-06_06_00_00_gelber_sack___gelbe_tonne.php?uid=
URL:https://www.eppelsheim.de/ep/veranstaltungen/termine/2026/2026-07-06_06_00_00_gelber_sack___gelbe_tonne.php?uid=
BEGIN:VALARM
TRIGGER:-P0DT13H0M0S
ACTION:DISPLAY
END:VALARM
END:VEVENT
BEGIN:VEVENT
SUMMARY:Bioabfall
DTSTAMP:20230704T154429
LAST-MODIFIED:20230803T115951
DTSTART:20260713T060000
DTEND:20260713T070000
DESCRIPTION:Leerungserinnerung
LOCATION:
UID:https://www.eppelsheim.de/ep/veranstaltungen/termine/2026/2026-07-13_06_00_00_bioabfall_240_02-w_chentl..php?uid=
URL:https://www.eppelsheim.de/ep/veranstaltungen/termine/2026/2026-07-13_06_00_00_bioabfall_240_02-w_chentl..php?uid=
BEGIN:VALARM
TRIGGER:-P0DT13H0M0S
ACTION:DISPLAY
END:VALARM
END:VEVENT
BEGIN:VEVENT
SUMMARY:Altpapier
DTSTAMP:20230704T154429
LAST-MODIFIED:20230803T115951
DTSTART:20260724T060000
DTEND:20260724T070000
DESCRIPTION:Leerungserinnerung
LOCATION:
UID:https://www.eppelsheim.de/ep/veranstaltungen/termine/2026/2026-07-24_06_00_00_altpapier.php?uid=
URL:https://www.eppelsheim.de/ep/veranstaltungen/termine/2026/2026-07-24_06_00_00_altpapier.php?uid=
BEGIN:VALARM
TRIGGER:-P0DT13H0M0S
ACTION:DISPLAY
END:VALARM
END:VEVENT
BEGIN:VEVENT
SUMMARY:Restmüll
DTSTAMP:20230704T154429
LAST-MODIFIED:20230803T115951
DTSTART:20260727T060000
DTEND:20260727T070000
DESCRIPTION:Leerungserinnerung
LOCATION:
UID:https://www.eppelsheim.de/ep/veranstaltungen/termine/2026/2026-07-27_06_00_00_restm_ll_240_03-w_chentl..php?uid=
URL:https://www.eppelsheim.de/ep/veranstaltungen/termine/2026/2026-07-27_06_00_00_restm_ll_240_03-w_chentl..php?uid=
BEGIN:VALARM
TRIGGER:-P0DT13H0M0S
ACTION:DISPLAY
END:VALARM
END:VEVENT
BEGIN:VEVENT
SUMMARY:Gelber Sack / Gelbe Tonne
DTSTAMP:20230704T154429
LAST-MODIFIED:20230803T115951
DTSTART:20260727T060000
DTEND:20260727T070000
DESCRIPTION:Leerungserinnerung
LOCATION:
UID:https://www.eppelsheim.de/ep/veranstaltungen/termine/2026/2026-07-27_06_00_00_gelber_sack___gelbe_tonne.php?uid=
URL:https://www.eppelsheim.de/ep/veranstaltungen/termine/2026/2026-07-27_06_00_00_gelber_sack___gelbe_tonne.php?uid=
BEGIN:VALARM
TRIGGER:-P0DT13H0M0S
ACTION:DISPLAY
END:VALARM
END:VEVENT
BEGIN:VEVENT
SUMMARY:Bioabfall
DTSTAMP:20230704T154429
LAST-MODIFIED:20230803T115951
DTSTART:20260727T060000
DTEND:20260727T070000
DESCRIPTION:Leerungserinnerung
LOCATION:
UID:https://www.eppelsheim.de/ep/veranstaltungen/termine/2026/2026-07-27_06_00_00_bioabfall_240_02-w_chentl..php?uid=
URL:https://www.eppelsheim.de/ep/veranstaltungen/termine/2026/2026-07-27_06_00_00_bioabfall_240_02-w_chentl..php?uid=
BEGIN:VALARM
TRIGGER:-P0DT13H0M0S
ACTION:DISPLAY
END:VALARM
END:VEVENT
BEGIN:VEVENT
SUMMARY:Bioabfall
DTSTAMP:20230704T154429
LAST-MODIFIED:20230803T115951
DTSTART:20260810T060000
DTEND:20260810T070000
DESCRIPTION:Leerungserinnerung
LOCATION:
UID:https://www.eppelsheim.de/ep/veranstaltungen/termine/2026/2026-08-10_06_00_00_bioabfall_240_02-w_chentl..php?uid=
URL:https://www.eppelsheim.de/ep/veranstaltungen/termine/2026/2026-08-10_06_00_00_bioabfall_240_02-w_chentl..php?uid=
BEGIN:VALARM
TRIGGER:-P0DT13H0M0S
ACTION:DISPLAY
END:VALARM
END:VEVENT
BEGIN:VEVENT
SUMMARY:Restmüll
DTSTAMP:20230704T154429
LAST-MODIFIED:20230803T115951
DTSTART:20260817T060000
DTEND:20260817T070000
DESCRIPTION:Leerungserinnerung
LOCATION:
UID:https://www.eppelsheim.de/ep/veranstaltungen/termine/2026/2026-08-17_06_00_00_restm_ll_240_03-w_chentl..php?uid=
URL:https://www.eppelsheim.de/ep/veranstaltungen/termine/2026/2026-08-17_06_00_00_restm_ll_240_03-w_chentl..php?uid=
BEGIN:VALARM
TRIGGER:-P0DT13H0M0S
ACTION:DISPLAY
END:VALARM
END:VEVENT
BEGIN:VEVENT
SUMMARY:Gelber Sack / Gelbe Tonne
DTSTAMP:20230704T154429
LAST-MODIFIED:20230803T115951
DTSTART:20260817T060000
DTEND:20260817T070000
DESCRIPTION:Leerungserinnerung
LOCATION:
UID:https://www.eppelsheim.de/ep/veranstaltungen/termine/2026/2026-08-17_06_00_00_gelber_sack___gelbe_tonne.php?uid=
URL:https://www.eppelsheim.de/ep/veranstaltungen/termine/2026/2026-08-17_06_00_00_gelber_sack___gelbe_tonne.php?uid=
BEGIN:VALARM
TRIGGER:-P0DT13H0M0S
ACTION:DISPLAY
END:VALARM
END:VEVENT
BEGIN:VEVENT
SUMMARY:Altpapier
DTSTAMP:20230704T154429
LAST-MODIFIED:20230803T115951
DTSTART:20260821T060000
DTEND:20260821T070000
DESCRIPTION:Leerungserinnerung
LOCATION:
UID:https://www.eppelsheim.de/ep/veranstaltungen/termine/2026/2026-08-21_06_00_00_altpapier.php?uid=
URL:https://www.eppelsheim.de/ep/veranstaltungen/termine/2026/2026-08-21_06_00_00_altpapier.php?uid=
BEGIN:VALARM
TRIGGER:-P0DT13H0M0S
ACTION:DISPLAY
END:VALARM
END:VEVENT
BEGIN:VEVENT
SUMMARY:Bioabfall
DTSTAMP:20230704T154429
LAST-MODIFIED:20230803T115951
DTSTART:20260824T060000
DTEND:20260824T070000
DESCRIPTION:Leerungserinnerung
LOCATION:
UID:https://www.eppelsheim.de/ep/veranstaltungen/termine/2026/2026-08-24_06_00_00_bioabfall_240_02-w_chentl..php?uid=
URL:https://www.eppelsheim.de/ep/veranstaltungen/termine/2026/2026-08-24_06_00_00_bioabfall_240_02-w_chentl..php?uid=
BEGIN:VALARM
TRIGGER:-P0DT13H0M0S
ACTION:DISPLAY
END:VALARM
END:VEVENT
BEGIN:VEVENT
SUMMARY:Restmüll
DTSTAMP:20230704T154429
LAST-MODIFIED:20230803T115951
DTSTART:20260907T060000
DTEND:20260907T070000
DESCRIPTION:Leerungserinnerung
LOCATION:
UID:https://www.eppelsheim.de/ep/veranstaltungen/termine/2026/2026-09-07_06_00_00_restm_ll_240_03-w_chentl..php?uid=
URL:https://www.eppelsheim.de/ep/veranstaltungen/termine/2026/2026-09-07_06_00_00_restm_ll_240_03-w_chentl..php?uid=
BEGIN:VALARM
TRIGGER:-P0DT13H0M0S
ACTION:DISPLAY
END:VALARM
END:VEVENT
BEGIN:VEVENT
SUMMARY:Gelber Sack / Gelbe Tonne
DTSTAMP:20230704T154429
LAST-MODIFIED:20230803T115951
DTSTART:20260907T060000
DTEND:20260907T070000
DESCRIPTION:Leerungserinnerung
LOCATION:
UID:https://www.eppelsheim.de/ep/veranstaltungen/termine/2026/2026-09-07_06_00_00_gelber_sack___gelbe_tonne.php?uid=
URL:https://www.eppelsheim.de/ep/veranstaltungen/termine/2026/2026-09-07_06_00_00_gelber_sack___gelbe_tonne.php?uid=
BEGIN:VALARM
TRIGGER:-P0DT13H0M0S
ACTION:DISPLAY
END:VALARM
END:VEVENT
BEGIN:VEVENT
SUMMARY:Bioabfall
DTSTAMP:20230704T154429
LAST-MODIFIED:20230803T115951
DTSTART:20260907T060000
DTEND:20260907T070000
DESCRIPTION:Leerungserinnerung
LOCATION:
UID:https://www.eppelsheim.de/ep/veranstaltungen/termine/2026/2026-09-07_06_00_00_bioabfall_240_02-w_chentl..php?uid=
URL:https://www.eppelsheim.de/ep/veranstaltungen/termine/2026/2026-09-07_06_00_00_bioabfall_240_02-w_chentl..php?uid=
BEGIN:VALARM
TRIGGER:-P0DT13H0M0S
ACTION:DISPLAY
END:VALARM
END:VEVENT
BEGIN:VEVENT
SUMMARY:Altpapier
DTSTAMP:20230704T154429
LAST-MODIFIED:20230803T115951
DTSTART:20260918T060000
DTEND:20260918T070000
DESCRIPTION:Leerungserinnerung
LOCATION:
UID:https://www.eppelsheim.de/ep/veranstaltungen/termine/2026/2026-09-18_06_00_00_altpapier.php?uid=
URL:https://www.eppelsheim.de/ep/veranstaltungen/termine/2026/2026-09-18_06_00_00_altpapier.php?uid=
BEGIN:VALARM
TRIGGER:-P0DT13H0M0S
ACTION:DISPLAY
END:VALARM
END:VEVENT
BEGIN:VEVENT
SUMMARY:Bioabfall
DTSTAMP:20230704T154429
LAST-MODIFIED:20230803T115951
DTSTART:20260921T060000
DTEND:20260921T070000
DESCRIPTION:Leerungserinnerung
LOCATION:
UID:https://www.eppelsheim.de/ep/veranstaltungen/termine/2026/2026-09-21_06_00_00_bioabfall_240_02-w_chentl..php?uid=
URL:https://www.eppelsheim.de/ep/veranstaltungen/termine/2026/2026-09-21_06_00_00_bioabfall_240_02-w_chentl..php?uid=
BEGIN:VALARM
TRIGGER:-P0DT13H0M0S
ACTION:DISPLAY
END:VALARM
END:VEVENT
BEGIN:VEVENT
SUMMARY:Restmüll
DTSTAMP:20230704T154429
LAST-MODIFIED:20230803T115951
DTSTART:20260928T060000
DTEND:20260928T070000
DESCRIPTION:Leerungserinnerung
LOCATION:
UID:https://www.eppelsheim.de/ep/veranstaltungen/termine/2026/2026-09-28_06_00_00_restm_ll_240_03-w_chentl..php?uid=
URL:https://www.eppelsheim.de/ep/veranstaltungen/termine/2026/2026-09-28_06_00_00_restm_ll_240_03-w_chentl..php?uid=
BEGIN:VALARM
TRIGGER:-P0DT13H0M0S
ACTION:DISPLAY
END:VALARM
END:VEVENT
BEGIN:VEVENT
SUMMARY:Gelber Sack / Gelbe Tonne
DTSTAMP:20230704T154429
LAST-MODIFIED:20230803T115951
DTSTART:20260928T060000
DTEND:20260928T070000
DESCRIPTION:Leerungserinnerung
LOCATION:
UID:https://www.eppelsheim.de/ep/veranstaltungen/termine/2026/2026-09-28_06_00_00_gelber_sack___gelbe_tonne.php?uid=
URL:https://www.eppelsheim.de/ep/veranstaltungen/termine/2026/2026-09-28_06_00_00_gelber_sack___gelbe_tonne.php?uid=
BEGIN:VALARM
TRIGGER:-P0DT13H0M0S
ACTION:DISPLAY
END:VALARM
END:VEVENT
BEGIN:VEVENT
SUMMARY:Problemabfall
DTSTAMP:20230704T154429
LAST-MODIFIED:20230803T115951
DTSTART:20260929T060000
DTEND:20260929T070000
DESCRIPTION:Leerungserinnerung
LOCATION:
UID:https://www.eppelsheim.de/ep/veranstaltungen/termine/2026/2026-09-29_06_00_00_problemabfall.php?uid=
URL:https://www.eppelsheim.de/ep/veranstaltungen/termine/2026/2026-09-29_06_00_00_problemabfall.php?uid=
BEGIN:VALARM
TRIGGER:-P0DT13H0M0S
ACTION:DISPLAY
END:VALARM
END:VEVENT
BEGIN:VEVENT
SUMMARY:Bioabfall
DTSTAMP:20230704T154429
LAST-MODIFIED:20230803T115951
DTSTART:20261005T060000
DTEND:20261005T070000
DESCRIPTION:Leerungserinnerung
LOCATION:
UID:https://www.eppelsheim.de/ep/veranstaltungen/termine/2026/2026-10-05_06_00_00_bioabfall_240_02-w_chentl..php?uid=
URL:https://www.eppelsheim.de/ep/veranstaltungen/termine/2026/2026-10-05_06_00_00_bioabfall_240_02-w_chentl..php?uid=
BEGIN:VALARM
TRIGGER:-P0DT13H0M0S
ACTION:DISPLAY
END:VALARM
END:VEVENT
BEGIN:VEVENT
SUMMARY:Altpapier
DTSTAMP:20230704T154429
LAST-MODIFIED:20230803T115951
DTSTART:20261016T060000
DTEND:20261016T070000
DESCRIPTION:Leerungserinnerung
LOCATION:
UID:https://www.eppelsheim.de/ep/veranstaltungen/termine/2026/2026-10-16_06_00_00_altpapier.php?uid=
URL:https://www.eppelsheim.de/ep/veranstaltungen/termine/2026/2026-10-16_06_00_00_altpapier.php?uid=
BEGIN:VALARM
TRIGGER:-P0DT13H0M0S
ACTION:DISPLAY
END:VALARM
END:VEVENT
BEGIN:VEVENT
SUMMARY:Restmüll
DTSTAMP:20230704T154429
LAST-MODIFIED:20230803T115951
DTSTART:20261019T060000
DTEND:20261019T070000
DESCRIPTION:Leerungserinnerung
LOCATION:
UID:https://www.eppelsheim.de/ep/veranstaltungen/termine/2026/2026-10-19_06_00_00_restm_ll_240_03-w_chentl..php?uid=
URL:https://www.eppelsheim.de/ep/veranstaltungen/termine/2026/2026-10-19_06_00_00_restm_ll_240_03-w_chentl..php?uid=
BEGIN:VALARM
TRIGGER:-P0DT13H0M0S
ACTION:DISPLAY
END:VALARM
END:VEVENT
BEGIN:VEVENT
SUMMARY:Gelber Sack / Gelbe Tonne
DTSTAMP:20230704T154429
LAST-MODIFIED:20230803T115951
DTSTART:20261019T060000
DTEND:20261019T070000
DESCRIPTION:Leerungserinnerung
LOCATION:
UID:https://www.eppelsheim.de/ep/veranstaltungen/termine/2026/2026-10-19_06_00_00_gelber_sack___gelbe_tonne.php?uid=
URL:https://www.eppelsheim.de/ep/veranstaltungen/termine/2026/2026-10-19_06_00_00_gelber_sack___gelbe_tonne.php?uid=
BEGIN:VALARM
TRIGGER:-P0DT13H0M0S
ACTION:DISPLAY
END:VALARM
END:VEVENT
BEGIN:VEVENT
SUMMARY:Bioabfall
DTSTAMP:20230704T154429
LAST-MODIFIED:20230803T115951
DTSTART:20261019T060000
DTEND:20261019T070000
DESCRIPTION:Leerungserinnerung
LOCATION:
UID:https://www.eppelsheim.de/ep/veranstaltungen/termine/2026/2026-10-19_06_00_00_bioabfall_240_02-w_chentl..php?uid=
URL:https://www.eppelsheim.de/ep/veranstaltungen/termine/2026/2026-10-19_06_00_00_bioabfall_240_02-w_chentl..php?uid=
BEGIN:VALARM
TRIGGER:-P0DT13H0M0S
ACTION:DISPLAY
END:VALARM
END:VEVENT
BEGIN:VEVENT
SUMMARY:Bioabfall
DTSTAMP:20230704T154429
LAST-MODIFIED:20230803T115951
DTSTART:20261102T060000
DTEND:20261102T070000
DESCRIPTION:Leerungserinnerung
LOCATION:
UID:https://www.eppelsheim.de/ep/veranstaltungen/termine/2026/2026-11-02_06_00_00_bioabfall_240_02-w_chentl..php?uid=
URL:https://www.eppelsheim.de/ep/veranstaltungen/termine/2026/2026-11-02_06_00_00_bioabfall_240_02-w_chentl..php?uid=
BEGIN:VALARM
TRIGGER:-P0DT13H0M0S
ACTION:DISPLAY
END:VALARM
END:VEVENT
BEGIN:VEVENT
SUMMARY:Restmüll
DTSTAMP:20230704T154429
LAST-MODIFIED:20230803T115951
DTSTART:20261109T060000
DTEND:20261109T070000
DESCRIPTION:Leerungserinnerung
LOCATION:
UID:https://www.eppelsheim.de/ep/veranstaltungen/termine/2026/2026-11-09_06_00_00_restm_ll_240_03-w_chentl..php?uid=
URL:https://www.eppelsheim.de/ep/veranstaltungen/termine/2026/2026-11-09_06_00_00_restm_ll_240_03-w_chentl..php?uid=
BEGIN:VALARM
TRIGGER:-P0DT13H0M0S
ACTION:DISPLAY
END:VALARM
END:VEVENT
BEGIN:VEVENT
SUMMARY:Gelber Sack / Gelbe Tonne
DTSTAMP:20230704T154429
LAST-MODIFIED:20230803T115951
DTSTART:20261109T060000
DTEND:20261109T070000
DESCRIPTION:Leerungserinnerung
LOCATION:
UID:https://www.eppelsheim.de/ep/veranstaltungen/termine/2026/2026-11-09_06_00_00_gelber_sack___gelbe_tonne.php?uid=
URL:https://www.eppelsheim.de/ep/veranstaltungen/termine/2026/2026-11-09_06_00_00_gelber_sack___gelbe_tonne.php?uid=
BEGIN:VALARM
TRIGGER:-P0DT13H0M0S
ACTION:DISPLAY
END:VALARM
END:VEVENT
BEGIN:VEVENT
SUMMARY:Altpapier
DTSTAMP:20230704T154429
LAST-MODIFIED:20230803T115951
DTSTART:20261113T060000
DTEND:20261113T070000
DESCRIPTION:Leerungserinnerung
LOCATION:
UID:https://www.eppelsheim.de/ep/veranstaltungen/termine/2026/2026-11-13_06_00_00_altpapier.php?uid=
URL:https://www.eppelsheim.de/ep/veranstaltungen/termine/2026/2026-11-13_06_00_00_altpapier.php?uid=
BEGIN:VALARM
TRIGGER:-P0DT13H0M0S
ACTION:DISPLAY
END:VALARM
END:VEVENT
BEGIN:VEVENT
SUMMARY:Bioabfall
DTSTAMP:20230704T154429
LAST-MODIFIED:20230803T115951
DTSTART:20261116T060000
DTEND:20261116T070000
DESCRIPTION:Leerungserinnerung
LOCATION:
UID:https://www.eppelsheim.de/ep/veranstaltungen/termine/2026/2026-11-16_06_00_00_bioabfall_240_02-w_chentl..php?uid=
URL:https://www.eppelsheim.de/ep/veranstaltungen/termine/2026/2026-11-16_06_00_00_bioabfall_240_02-w_chentl..php?uid=
BEGIN:VALARM
TRIGGER:-P0DT13H0M0S
ACTION:DISPLAY
END:VALARM
END:VEVENT
BEGIN:VEVENT
SUMMARY:Restmüll
DTSTAMP:20230704T154429
LAST-MODIFIED:20230803T115951
DTSTART:20261130T060000
DTEND:20261130T070000
DESCRIPTION:Leerungserinnerung
LOCATION:
UID:https://www.eppelsheim.de/ep/veranstaltungen/termine/2026/2026-11-30_06_00_00_restm_ll_240_03-w_chentl..php?uid=
URL:https://www.eppelsheim.de/ep/veranstaltungen/termine/2026/2026-11-30_06_00_00_restm_ll_240_03-w_chentl..php?uid=
BEGIN:VALARM
TRIGGER:-P0DT13H0M0S
ACTION:DISPLAY
END:VALARM
END:VEVENT
BEGIN:VEVENT
SUMMARY:Gelber Sack / Gelbe Tonne
DTSTAMP:20230704T154429
LAST-MODIFIED:20230803T115951
DTSTART:20261130T060000
DTEND:20261130T070000
DESCRIPTION:Leerungserinnerung
LOCATION:
UID:https://www.eppelsheim.de/ep/veranstaltungen/termine/2026/2026-11-30_06_00_00_gelber_sack___gelbe_tonne.php?uid=
URL:https://www.eppelsheim.de/ep/veranstaltungen/termine/2026/2026-11-30_06_00_00_gelber_sack___gelbe_tonne.php?uid=
BEGIN:VALARM
TRIGGER:-P0DT13H0M0S
ACTION:DISPLAY
END:VALARM
END:VEVENT
BEGIN:VEVENT
SUMMARY:Bioabfall
DTSTAMP:20230704T154429
LAST-MODIFIED:20230803T115951
DTSTART:20261130T060000
DTEND:20261130T070000
DESCRIPTION:Leerungserinnerung
LOCATION:
UID:https://www.eppelsheim.de/ep/veranstaltungen/termine/2026/2026-11-30_06_00_00_bioabfall_240_02-w_chentl..php?uid=
URL:https://www.eppelsheim.de/ep/veranstaltungen/termine/2026/2026-11-30_06_00_00_bioabfall_240_02-w_chentl..php?uid=
BEGIN:VALARM
TRIGGER:-P0DT13H0M0S
ACTION:DISPLAY
END:VALARM
END:VEVENT
BEGIN:VEVENT
SUMMARY:Altpapier
DTSTAMP:20230704T154429
LAST-MODIFIED:20230803T115951
DTSTART:20261211T060000
DTEND:20261211T070000
DESCRIPTION:Leerungserinnerung
LOCATION:
UID:https://www.eppelsheim.de/ep/veranstaltungen/termine/2026/2026-12-11_06_00_00_altpapier.php?uid=
URL:https://www.eppelsheim.de/ep/veranstaltungen/termine/2026/2026-12-11_06_00_00_altpapier.php?uid=
BEGIN:VALARM
TRIGGER:-P0DT13H0M0S
ACTION:DISPLAY
END:VALARM
END:VEVENT
BEGIN:VEVENT
SUMMARY:Bioabfall
DTSTAMP:20230704T154429
LAST-MODIFIED:20230803T115951
DTSTART:20261214T060000
DTEND:20261214T070000
DESCRIPTION:Leerungserinnerung
LOCATION:
UID:https://www.eppelsheim.de/ep/veranstaltungen/termine/2026/2026-12-14_06_00_00_bioabfall_240_02-w_chentl..php?uid=
URL:https://www.eppelsheim.de/ep/veranstaltungen/termine/2026/2026-12-14_06_00_00_bioabfall_240_02-w_chentl..php?uid=
BEGIN:VALARM
TRIGGER:-P0DT13H0M0S
ACTION:DISPLAY
END:VALARM
END:VEVENT
BEGIN:VEVENT
SUMMARY:Restmüll
DTSTAMP:20230704T154429
LAST-MODIFIED:20230803T115951
DTSTART:20261219T060000
DTEND:20261219T070000
DESCRIPTION:Leerungserinnerung
LOCATION:
UID:https://www.eppelsheim.de/ep/veranstaltungen/termine/2026/2026-12-19_06_00_00_restm_ll_240_03-w_chentl..php?uid=
URL:https://www.eppelsheim.de/ep/veranstaltungen/termine/2026/2026-12-19_06_00_00_restm_ll_240_03-w_chentl..php?uid=
BEGIN:VALARM
TRIGGER:-P0DT13H0M0S
ACTION:DISPLAY
END:VALARM
END:VEVENT
BEGIN:VEVENT
SUMMARY:Gelber Sack / Gelbe Tonne
DTSTAMP:20230704T154429
LAST-MODIFIED:20230803T115951
DTSTART:20261219T060000
DTEND:20261219T070000
DESCRIPTION:Leerungserinnerung
LOCATION:
UID:https://www.eppelsheim.de/ep/veranstaltungen/termine/2026/2026-12-19_06_00_00_gelber_sack___gelbe_tonne.php?uid=
URL:https://www.eppelsheim.de/ep/veranstaltungen/termine/2026/2026-12-19_06_00_00_gelber_sack___gelbe_tonne.php?uid=
BEGIN:VALARM
TRIGGER:-P0DT13H0M0S
ACTION:DISPLAY
END:VALARM
END:VEVENT
BEGIN:VEVENT
SUMMARY:Bioabfall
DTSTAMP:20230704T154429
LAST-MODIFIED:20230803T115951
DTSTART:20261228T060000
DTEND:20261228T070000
DESCRIPTION:Leerungserinnerung
LOCATION:
UID:https://www.eppelsheim.de/ep/veranstaltungen/termine/2026/2026-12-28_06_00_00_bioabfall_240_02-w_chentl..php?uid=
URL:https://www.eppelsheim.de/ep/veranstaltungen/termine/2026/2026-12-28_06_00_00_bioabfall_240_02-w_chentl..php?uid=
BEGIN:VALARM
TRIGGER:-P0DT13H0M0S
ACTION:DISPLAY
END:VALARM
END:VEVENT
END:VCALENDAR